BEGIN:VCALENDAR
VERSION:2.0
PRODID:-//lueders-warneboldt.de//NONSGML Flynt Event//EN
CALSCALE:GREGORIAN
METHOD:PUBLISH
BEGIN:VTIMEZONE
TZID:Europe/Berlin
BEGIN:DAYLIGHT
TZOFFSETFROM:+0100
TZOFFSETTO:+0200
TZNAME:CEST
DTSTART:19700329T020000
RRULE:FREQ=YEARLY;BYMONTH=3;BYDAY=-1SU
END:DAYLIGHT
BEGIN:STANDARD
TZOFFSETFROM:+0200
TZOFFSETTO:+0100
TZNAME:CET
DTSTART:19701025T030000
RRULE:FREQ=YEARLY;BYMONTH=10;BYDAY=-1SU
END:STANDARD
END:VTIMEZONE
BEGIN:VEVENT
UID:20260420T145708Z-4882@lueders-warneboldt.de
DTSTAMP:20260420T145708Z
DTSTART;VALUE=DATE:20260505
DTEND;VALUE=DATE:20260506
SUMMARY:HLB Businessmeeting
DESCRIPTION:Veränderung und Druck prägen den unternehmerischen Alltag mehr denn je. Doch sie müssen nicht lähmen: Sie können Auslöser für Wachstum\, Innovation und unternehmerische Weiterentwicklung sein. In unserer virtuellen Mittagspause zeigt Paula Menninghaus warum nicht der Druck selbst\, sondern die Fähigkeit\, mit ihm umzugehen\, über Zukunftsfähigkeit entscheidet.
LOCATION:Online via Teams
URL;VALUE=URI:https://lueders-warneboldt.de/veranstaltung/hlb-businessmeeting/
STATUS:CONFIRMED
TRANSP:OPAQUE
END:VEVENT
END:VCALENDAR